BEGIN:VCALENDAR
VERSION:2.0
PRODID:-//Central Missouri Humane Society - ECPv6.15.20//NONSGML v1.0//EN
CALSCALE:GREGORIAN
METHOD:PUBLISH
X-WR-CALNAME:Central Missouri Humane Society
X-ORIGINAL-URL:https://cmhspets.org
X-WR-CALDESC:Events for Central Missouri Humane Society
REFRESH-INTERVAL;VALUE=DURATION:PT1H
X-Robots-Tag:noindex
X-PUBLISHED-TTL:PT1H
BEGIN:VTIMEZONE
TZID:America/Chicago
BEGIN:DAYLIGHT
TZOFFSETFROM:-0600
TZOFFSETTO:-0500
TZNAME:CDT
DTSTART:20210314T080000
END:DAYLIGHT
BEGIN:STANDARD
TZOFFSETFROM:-0500
TZOFFSETTO:-0600
TZNAME:CST
DTSTART:20211107T070000
END:STANDARD
BEGIN:DAYLIGHT
TZOFFSETFROM:-0600
TZOFFSETTO:-0500
TZNAME:CDT
DTSTART:20220313T080000
END:DAYLIGHT
BEGIN:STANDARD
TZOFFSETFROM:-0500
TZOFFSETTO:-0600
TZNAME:CST
DTSTART:20221106T070000
END:STANDARD
BEGIN:DAYLIGHT
TZOFFSETFROM:-0600
TZOFFSETTO:-0500
TZNAME:CDT
DTSTART:20230312T080000
END:DAYLIGHT
BEGIN:STANDARD
TZOFFSETFROM:-0500
TZOFFSETTO:-0600
TZNAME:CST
DTSTART:20231105T070000
END:STANDARD
BEGIN:DAYLIGHT
TZOFFSETFROM:-0600
TZOFFSETTO:-0500
TZNAME:CDT
DTSTART:20240310T080000
END:DAYLIGHT
BEGIN:STANDARD
TZOFFSETFROM:-0500
TZOFFSETTO:-0600
TZNAME:CST
DTSTART:20241103T070000
END:STANDARD
BEGIN:DAYLIGHT
TZOFFSETFROM:-0600
TZOFFSETTO:-0500
TZNAME:CDT
DTSTART:20250309T080000
END:DAYLIGHT
BEGIN:STANDARD
TZOFFSETFROM:-0500
TZOFFSETTO:-0600
TZNAME:CST
DTSTART:20251102T070000
END:STANDARD
BEGIN:DAYLIGHT
TZOFFSETFROM:-0600
TZOFFSETTO:-0500
TZNAME:CDT
DTSTART:20260308T080000
END:DAYLIGHT
BEGIN:STANDARD
TZOFFSETFROM:-0500
TZOFFSETTO:-0600
TZNAME:CST
DTSTART:20261101T070000
END:STANDARD
BEGIN:DAYLIGHT
TZOFFSETFROM:-0600
TZOFFSETTO:-0500
TZNAME:CDT
DTSTART:20270314T080000
END:DAYLIGHT
BEGIN:STANDARD
TZOFFSETFROM:-0500
TZOFFSETTO:-0600
TZNAME:CST
DTSTART:20271107T070000
END:STANDARD
END:VTIMEZONE
BEGIN:VEVENT
DTSTART;TZID=America/Chicago:20260419T130000
DTEND;TZID=America/Chicago:20260419T160000
DTSTAMP:20260422T052033
CREATED:20260408T162530Z
LAST-MODIFIED:20260408T162625Z
UID:10000141-1776603600-1776614400@cmhspets.org
SUMMARY:Romance Reads & Pups Party at Pierpont General Store
DESCRIPTION:Join us for the release of Elaine Strawn’s new book “Birthday Wishes”. We will be at Pierpont General Store\, 7650 MO-163\, from 1pm-4pm on Sunday\, April 19th. For every book sold\, CMHS will receive $5! Come hang out with adoptable pups and get a sneak peek into Elaine’s mystery romance book. 
URL:https://cmhspets.org/event/romance-reads-pups-party-at-pierpont-general-store/
LOCATION:The Pierpont General Store\, 7650 MO-163\, Columbia\, Missouri\, 65203
ATTACH;FMTTYPE=image/jpeg:https://cmhspets.org//wp-content/uploads/2026/04/launchpartyevent.jpg
END:VEVENT
BEGIN:VEVENT
DTSTART;TZID=America/Chicago:20250427T100000
DTEND;TZID=America/Chicago:20250427T170000
DTSTAMP:20260422T052033
CREATED:20250403T175510Z
LAST-MODIFIED:20250403T175512Z
UID:10000114-1745748000-1745773200@cmhspets.org
SUMMARY:Pups\, Pints and Petting Zoos at Pierpont General Store
DESCRIPTION:Pups Pints and Petting Zoos is an amazing day at Pierpont General store of trying to raise money for the Central Missouri Humane Society. We will have a full petting zoo free for the public\, adoptable dogs\, free face painting and balloon art and live music! Grab your pup\, bring your kids\, and the whole family for one of the coolest free events around while helping raise money to save animals!
URL:https://cmhspets.org/event/pups-pints-and-petting-zoos-at-pierpont-general-store/
LOCATION:The Pierpont General Store\, 7650 MO-163\, Columbia\, Missouri\, 65203
ATTACH;FMTTYPE=image/jpeg:https://cmhspets.org//wp-content/uploads/2025/04/476642237_1268954274675226_7716170484843516924_n.jpg
END:VEVENT
BEGIN:VEVENT
DTSTART;TZID=America/Chicago:20220710T120000
DTEND;TZID=America/Chicago:20220710T140000
DTSTAMP:20260422T052033
CREATED:20220531T200619Z
LAST-MODIFIED:20220615T193653Z
UID:10000068-1657454400-1657461600@cmhspets.org
SUMMARY:Pierpont Pups & Pilsners
DESCRIPTION:Join us on Sunday\, July 10 at the Pierpont General Store! Get ready to enjoy a pint and hand out pets to our pups!
URL:https://cmhspets.org/event/pierpont-pups-pilsners/
LOCATION:The Pierpont General Store\, 7650 MO-163\, Columbia\, Missouri\, 65203
CATEGORIES:Adoption Event
ATTACH;FMTTYPE=image/png:https://cmhspets.org//wp-content/uploads/2022/05/Pierpont-June-18-1.png
END:VEVENT
END:VCALENDAR