BEGIN:VCALENDAR
VERSION:2.0
PRODID:-//Central Missouri Humane Society - ECPv6.15.20//NONSGML v1.0//EN
CALSCALE:GREGORIAN
METHOD:PUBLISH
X-WR-CALNAME:Central Missouri Humane Society
X-ORIGINAL-URL:https://cmhspets.org
X-WR-CALDESC:Events for Central Missouri Humane Society
REFRESH-INTERVAL;VALUE=DURATION:PT1H
X-Robots-Tag:noindex
X-PUBLISHED-TTL:PT1H
BEGIN:VTIMEZONE
TZID:America/Chicago
BEGIN:DAYLIGHT
TZOFFSETFROM:-0600
TZOFFSETTO:-0500
TZNAME:CDT
DTSTART:20240310T080000
END:DAYLIGHT
BEGIN:STANDARD
TZOFFSETFROM:-0500
TZOFFSETTO:-0600
TZNAME:CST
DTSTART:20241103T070000
END:STANDARD
BEGIN:DAYLIGHT
TZOFFSETFROM:-0600
TZOFFSETTO:-0500
TZNAME:CDT
DTSTART:20250309T080000
END:DAYLIGHT
BEGIN:STANDARD
TZOFFSETFROM:-0500
TZOFFSETTO:-0600
TZNAME:CST
DTSTART:20251102T070000
END:STANDARD
BEGIN:DAYLIGHT
TZOFFSETFROM:-0600
TZOFFSETTO:-0500
TZNAME:CDT
DTSTART:20260308T080000
END:DAYLIGHT
BEGIN:STANDARD
TZOFFSETFROM:-0500
TZOFFSETTO:-0600
TZNAME:CST
DTSTART:20261101T070000
END:STANDARD
END:VTIMEZONE
BEGIN:VEVENT
DTSTART;TZID=America/Chicago:20250329T160000
DTEND;TZID=America/Chicago:20250329T200000
DTSTAMP:20260422T054441
CREATED:20250321T194254Z
LAST-MODIFIED:20250321T194255Z
UID:10000112-1743264000-1743278400@cmhspets.org
SUMMARY:Five Guys giveback night!
DESCRIPTION:Support CMHS by dining out at Five Guys on Saturday\, March 29! Simply stop by Five Guys (Stadium location) place your order and let them know you are there to support CMHS and they will donate 30% of your total purchase back to the shelter!
URL:https://cmhspets.org/event/five-guys-giveback-night/
LOCATION:Five Guys\, 233 N Stadium\, Columbia\, Missouri\, 65203
ATTACH;FMTTYPE=image/png:https://cmhspets.org//wp-content/uploads/2025/03/Five-guys-giveback.png
END:VEVENT
END:VCALENDAR