BEGIN:VCALENDAR
VERSION:2.0
PRODID:-//Central Missouri Humane Society - ECPv6.15.20//NONSGML v1.0//EN
CALSCALE:GREGORIAN
METHOD:PUBLISH
X-ORIGINAL-URL:https://cmhspets.org
X-WR-CALDESC:Events for Central Missouri Humane Society
REFRESH-INTERVAL;VALUE=DURATION:PT1H
X-Robots-Tag:noindex
X-PUBLISHED-TTL:PT1H
BEGIN:VTIMEZONE
TZID:America/Chicago
BEGIN:DAYLIGHT
TZOFFSETFROM:-0600
TZOFFSETTO:-0500
TZNAME:CDT
DTSTART:20250309T080000
END:DAYLIGHT
BEGIN:STANDARD
TZOFFSETFROM:-0500
TZOFFSETTO:-0600
TZNAME:CST
DTSTART:20251102T070000
END:STANDARD
BEGIN:DAYLIGHT
TZOFFSETFROM:-0600
TZOFFSETTO:-0500
TZNAME:CDT
DTSTART:20260308T080000
END:DAYLIGHT
BEGIN:STANDARD
TZOFFSETFROM:-0500
TZOFFSETTO:-0600
TZNAME:CST
DTSTART:20261101T070000
END:STANDARD
BEGIN:DAYLIGHT
TZOFFSETFROM:-0600
TZOFFSETTO:-0500
TZNAME:CDT
DTSTART:20270314T080000
END:DAYLIGHT
BEGIN:STANDARD
TZOFFSETFROM:-0500
TZOFFSETTO:-0600
TZNAME:CST
DTSTART:20271107T070000
END:STANDARD
END:VTIMEZONE
BEGIN:VEVENT
DTSTART;TZID=America/Chicago:20260424T160000
DTEND;TZID=America/Chicago:20260424T200000
DTSTAMP:20260424T033812
CREATED:20260421T182200Z
LAST-MODIFIED:20260421T182201Z
UID:10000142-1777046400-1777060800@cmhspets.org
SUMMARY:Celebrity Bartenders at Pierpont
DESCRIPTION:Come on out to Pierpont General Store on Friday\, April 24th for a fun evening out with our celebrity bartenders\, Wendy\, Krista and Dawn! They’ll be serving signature drinks!  \n\n\n\n100% of tips come back to the pets at CMHS! 
URL:https://cmhspets.org/event/celebrity-bartenders-at-pierpont/
LOCATION:The Pierpont General Store\, 7650 MO-163\, Columbia\, Missouri\, 65203
ATTACH;FMTTYPE=image/jpeg:https://cmhspets.org//wp-content/uploads/2026/04/Pierpont426-e1776795752710.jpg
END:VEVENT
END:VCALENDAR